BEGIN:VCALENDAR
VERSION:2.0
PRODID:-//PostTypeToCalendar//ICS Export//EN
CALSCALE:GREGORIAN
BEGIN:VEVENT
UID:53484-1778630400@www.gruendau.info
DTSTAMP:20260513T000000
DTSTART:20260513T000000
DTEND:20260513T235959
SUMMARY:Ausschüsse
DESCRIPTION:
LOCATION:
URL;VALUE=URI:https://www.gruendau.info/veranstaltungen/ausschuesse-4/
ORGANIZER:Gemeinde Gründau
END:VEVENT
END:VCALENDAR
