BEGIN:VCALENDAR
VERSION:2.0
PRODID:-//PostTypeToCalendar//ICS Export//EN
CALSCALE:GREGORIAN
BEGIN:VEVENT
UID:53487-1782086400@www.gruendau.info
DTSTAMP:20260622T000000
DTSTART:20260622T000000
DTEND:20260622T235959
SUMMARY:Gemeindevertretung
DESCRIPTION:
LOCATION:
URL;VALUE=URI:https://www.gruendau.info/veranstaltungen/gemeindevertretung-6/
ORGANIZER:Gemeinde Gründau
END:VEVENT
END:VCALENDAR
