BEGIN:VCALENDAR
VERSION:2.0
PRODID:-//PostTypeToCalendar//ICS Export//EN
CALSCALE:GREGORIAN
BEGIN:VEVENT
UID:53490-1789603200@www.gruendau.info
DTSTAMP:20260917T000000
DTSTART:20260917T000000
DTEND:20260917T235959
SUMMARY:Ausschüsse
DESCRIPTION:
LOCATION:
URL;VALUE=URI:https://www.gruendau.info/veranstaltungen/ausschuesse-7/
ORGANIZER:Gemeinde Gründau
END:VEVENT
END:VCALENDAR
