BEGIN:VCALENDAR
VERSION:2.0
PRODID:-//PostTypeToCalendar//ICS Export//EN
CALSCALE:GREGORIAN
BEGIN:VEVENT
UID:53498-1797811200@www.gruendau.info
DTSTAMP:20261221T000000
DTSTART:20261221T000000
DTEND:20261221T235959
SUMMARY:Gemeindevertretung
DESCRIPTION:
LOCATION:
URL;VALUE=URI:https://www.gruendau.info/veranstaltungen/gemeindevertretung-11/
ORGANIZER:Gemeinde Gründau
END:VEVENT
END:VCALENDAR
