BEGIN:VCALENDAR
VERSION:2.0
PRODID:-//PostTypeToCalendar//ICS Export//EN
CALSCALE:GREGORIAN
BEGIN:VEVENT
UID:53491-1789948800@www.gruendau.info
DTSTAMP:20260921T000000
DTSTART:20260921T000000
DTEND:20260921T235959
SUMMARY:Gemeindevertretung
DESCRIPTION:
LOCATION:
URL;VALUE=URI:https://www.gruendau.info/veranstaltungen/gemeindevertretung-8/
ORGANIZER:Gemeinde Gründau
END:VEVENT
END:VCALENDAR
