BEGIN:VCALENDAR
VERSION:2.0
PRODID:-//PostTypeToCalendar//ICS Export//EN
CALSCALE:GREGORIAN
BEGIN:VEVENT
UID:53489-1786924800@www.gruendau.info
DTSTAMP:20260817T000000
DTSTART:20260817T000000
DTEND:20260817T235959
SUMMARY:Gemeindevertretung
DESCRIPTION:
LOCATION:
URL;VALUE=URI:https://www.gruendau.info/veranstaltungen/gemeindevertretung-7/
ORGANIZER:Gemeinde Gründau
END:VEVENT
END:VCALENDAR
