BEGIN:VCALENDAR
VERSION:2.0
PRODID:-//PostTypeToCalendar//ICS Export//EN
CALSCALE:GREGORIAN
BEGIN:VEVENT
UID:53493-1792972800@www.gruendau.info
DTSTAMP:20261026T000000
DTSTART:20261026T000000
DTEND:20261026T235959
SUMMARY:Gemeindevertretung
DESCRIPTION:
LOCATION:
URL;VALUE=URI:https://www.gruendau.info/veranstaltungen/gemeindevertretung-9/
ORGANIZER:Gemeinde Gründau
END:VEVENT
END:VCALENDAR
