BEGIN:VCALENDAR
VERSION:2.0
PRODID:-//PostTypeToCalendar//ICS Export//EN
CALSCALE:GREGORIAN
BEGIN:VEVENT
UID:53494-1795046400@www.gruendau.info
DTSTAMP:20261119T000000
DTSTART:20261119T000000
DTEND:20261119T235959
SUMMARY:Ausschüsse
DESCRIPTION:
LOCATION:
URL;VALUE=URI:https://www.gruendau.info/veranstaltungen/ausschuesse-9/
ORGANIZER:Gemeinde Gründau
END:VEVENT
END:VCALENDAR
