BEGIN:VCALENDAR
VERSION:2.0
PRODID:-//PostTypeToCalendar//ICS Export//EN
CALSCALE:GREGORIAN
BEGIN:VEVENT
UID:53496-1795651200@www.gruendau.info
DTSTAMP:20261126T000000
DTSTART:20261126T000000
DTEND:20261126T235959
SUMMARY:Gemeindevertretung - Ehrungssitzung
DESCRIPTION:
LOCATION:
URL;VALUE=URI:https://www.gruendau.info/veranstaltungen/gemeindevertretung-ehrungssi
 tzung/
ORGANIZER:Gemeinde Gründau
END:VEVENT
END:VCALENDAR
