BEGIN:VCALENDAR
VERSION:2.0
PRODID:-//PostTypeToCalendar//ICS Export//EN
CALSCALE:GREGORIAN
BEGIN:VEVENT
UID:53497-1797465600@www.gruendau.info
DTSTAMP:20261217T000000
DTSTART:20261217T000000
DTEND:20261217T235959
SUMMARY:Ausschüsse
DESCRIPTION:
LOCATION:
URL;VALUE=URI:https://www.gruendau.info/veranstaltungen/ausschuesse-10/
ORGANIZER:Gemeinde Gründau
END:VEVENT
END:VCALENDAR
